Name | Last modified | Size | Description | |
---|---|---|---|---|
Parent Directory | - | |||
buildsrc-out.txt | 12-Apr-2023 03:50 | 841 | ||
buildsrc-summary.dcf | 12-Apr-2023 03:50 | 449 | ||
checksrc-out.txt | 12-Apr-2023 03:50 | 3.3K | ||
checksrc-summary.dcf | 12-Apr-2023 03:50 | 457 | ||
install-out.txt | 12-Apr-2023 03:50 | 961 | ||
install-summary.dcf | 12-Apr-2023 03:50 | 280 | ||