Name | Last modified | Size | Description | |
---|---|---|---|---|
Parent Directory | - | |||
buildsrc-out.txt | 12-Apr-2023 03:50 | 794 | ||
buildsrc-summary.dcf | 12-Apr-2023 03:50 | 408 | ||
checksrc-out.txt | 12-Apr-2023 03:50 | 2.7K | ||
checksrc-summary.dcf | 12-Apr-2023 03:50 | 401 | ||
install-out.txt | 12-Apr-2023 03:50 | 885 | ||
install-summary.dcf | 12-Apr-2023 03:50 | 252 | ||