Name | Last modified | Size | Description | |
---|---|---|---|---|
Parent Directory | - | |||
buildsrc-out.txt | 12-Apr-2023 03:50 | 894 | ||
buildsrc-summary.dcf | 12-Apr-2023 03:50 | 459 | ||
checksrc-out.txt | 12-Apr-2023 03:50 | 3.7K | ||
checksrc-summary.dcf | 12-Apr-2023 03:50 | 470 | ||
install-out.txt | 12-Apr-2023 03:50 | 1.0K | ||
install-summary.dcf | 12-Apr-2023 03:50 | 287 | ||