Index of /checkResults/3.16/data-experiment-LATEST/AshkenazimSonChr21/raw-results
Name
Last modified
Size
Description
Parent Directory
-
info.dcf
12-Apr-2023 03:50
303
nebbiolo2/
12-Apr-2023 03:50
-