Index of /checkResults/3.16/data-annotation-LATEST/rat2302frmavecs/raw-results
Name
Last modified
Size
Description
Parent Directory
-
info.dcf
12-Apr-2023 19:00
289
nebbiolo2/
12-Apr-2023 19:00
-