Index of /checkResults/3.16/data-annotation-LATEST/UCSCRepeatMasker/raw-results
Name
Last modified
Size
Description
Parent Directory
-
info.dcf
12-Apr-2023 19:00
293
nebbiolo2/
12-Apr-2023 19:00
-