Name | Last modified | Size | Description | |
---|---|---|---|---|
Parent Directory | - | |||
buildsrc-out.txt | 12-Apr-2023 19:00 | 890 | ||
buildsrc-summary.dcf | 12-Apr-2023 19:00 | 448 | ||
checksrc-out.txt | 12-Apr-2023 19:00 | 3.1K | ||
checksrc-summary.dcf | 12-Apr-2023 19:00 | 458 | ||
install-out.txt | 12-Apr-2023 19:00 | 1.0K | ||
install-summary.dcf | 12-Apr-2023 19:00 | 281 | ||