Index of /checkResults/3.16/books-LATEST/csawBook/raw-results
Name
Last modified
Size
Description
Parent Directory
-
info.dcf
13-Apr-2023 03:00
290
nebbiolo2/
13-Apr-2023 03:00
-