Name | Last modified | Size | Description | |
---|---|---|---|---|
Parent Directory | - | |||
install-summary.dcf | 20-Apr-2023 00:01 | 277 | ||
install-out.txt | 20-Apr-2023 00:01 | 37K | ||
buildsrc-summary.dcf | 20-Apr-2023 00:01 | 440 | ||
buildsrc-out.txt | 20-Apr-2023 00:01 | 1.2K | ||
buildbin-summary.dcf | 20-Apr-2023 00:01 | 555 | ||
buildbin-out.txt | 20-Apr-2023 00:01 | 38K | ||