Name | Last modified | Size | Description | |
---|---|---|---|---|
Parent Directory | - | |||
buildbin-out.txt | 20-Apr-2023 00:01 | 12K | ||
buildbin-summary.dcf | 20-Apr-2023 00:01 | 525 | ||
buildsrc-out.txt | 20-Apr-2023 00:01 | 842 | ||
buildsrc-summary.dcf | 20-Apr-2023 00:01 | 424 | ||
install-out.txt | 20-Apr-2023 00:01 | 11K | ||
install-summary.dcf | 20-Apr-2023 00:01 | 267 | ||