Name | Last modified | Size | Description | |
---|---|---|---|---|
Parent Directory | - | |||
install-summary.dcf | 20-Apr-2023 00:01 | 275 | ||
install-out.txt | 20-Apr-2023 00:01 | 4.7K | ||
buildsrc-summary.dcf | 20-Apr-2023 00:01 | 436 | ||
buildsrc-out.txt | 20-Apr-2023 00:01 | 921 | ||
buildbin-summary.dcf | 20-Apr-2023 00:01 | 548 | ||
buildbin-out.txt | 20-Apr-2023 00:01 | 5.6K | ||