Name | Last modified | Size | Description | |
---|---|---|---|---|
Parent Directory | - | |||
install-summary.dcf | 20-Apr-2023 00:01 | 265 | ||
buildsrc-summary.dcf | 20-Apr-2023 00:01 | 422 | ||
buildbin-summary.dcf | 20-Apr-2023 00:01 | 518 | ||
buildsrc-out.txt | 20-Apr-2023 00:01 | 871 | ||
install-out.txt | 20-Apr-2023 00:01 | 1.0K | ||
buildbin-out.txt | 20-Apr-2023 00:01 | 1.1K | ||