Index of /checkResults/3.16/bioc-mac-arm64-LATEST/globaltest/raw-results/kjohnson
Name
Last modified
Size
Description
Parent Directory
-
buildsrc-out.txt
20-Apr-2023 00:01
662
buildsrc-summary.dcf
20-Apr-2023 00:01
356
install-out.txt
20-Apr-2023 00:01
1.0K
install-summary.dcf
20-Apr-2023 00:01
275