Name | Last modified | Size | Description | |
---|---|---|---|---|
Parent Directory | - | |||
buildbin-out.txt | 20-Apr-2023 00:01 | 3.0K | ||
buildbin-summary.dcf | 20-Apr-2023 00:01 | 536 | ||
buildsrc-out.txt | 20-Apr-2023 00:01 | 850 | ||
buildsrc-summary.dcf | 20-Apr-2023 00:01 | 428 | ||
install-out.txt | 20-Apr-2023 00:01 | 2.2K | ||
install-summary.dcf | 20-Apr-2023 00:01 | 271 | ||