Index of /checkResults/3.16/bioc-mac-arm64-LATEST/flowVS/raw-results
Name
Last modified
Size
Description
Parent Directory
-
info.dcf
20-Apr-2023 00:01
259
kjohnson/
20-Apr-2023 00:01
-