Name | Last modified | Size | Description | |
---|---|---|---|---|
Parent Directory | - | |||
buildsrc-out.txt | 20-Apr-2023 00:01 | 816 | ||
buildsrc-summary.dcf | 20-Apr-2023 00:01 | 427 | ||
install-out.txt | 20-Apr-2023 00:01 | 1.0K | ||
install-summary.dcf | 20-Apr-2023 00:01 | 268 | ||
buildbin-out.txt | 20-Apr-2023 00:01 | 1.1K | ||
buildbin-summary.dcf | 20-Apr-2023 00:01 | 530 | ||