Name | Last modified | Size | Description | |
---|---|---|---|---|
Parent Directory | - | |||
buildbin-out.txt | 20-Apr-2023 00:01 | 1.1K | ||
buildbin-summary.dcf | 20-Apr-2023 00:01 | 511 | ||
buildsrc-out.txt | 20-Apr-2023 00:01 | 795 | ||
buildsrc-summary.dcf | 20-Apr-2023 00:01 | 417 | ||
install-out.txt | 20-Apr-2023 00:01 | 953 | ||
install-summary.dcf | 20-Apr-2023 00:01 | 262 | ||