Index of /checkResults/3.16/bioc-mac-arm64-LATEST/ctgGEM/raw-results/kjohnson
Name
Last modified
Size
Description
Parent Directory
-
buildsrc-out.txt
20-Apr-2023 00:01
1.1K
buildsrc-summary.dcf
20-Apr-2023 00:01
340
install-out.txt
20-Apr-2023 00:01
917
install-summary.dcf
20-Apr-2023 00:01
269