Name | Last modified | Size | Description | |
---|---|---|---|---|
Parent Directory | - | |||
buildbin-out.txt | 20-Apr-2023 00:01 | 3.7K | ||
buildbin-summary.dcf | 20-Apr-2023 00:01 | 519 | ||
buildsrc-out.txt | 20-Apr-2023 00:01 | 901 | ||
buildsrc-summary.dcf | 20-Apr-2023 00:01 | 422 | ||
install-out.txt | 20-Apr-2023 00:01 | 2.9K | ||
install-summary.dcf | 20-Apr-2023 00:01 | 265 | ||