Index of /checkResults/3.16/bioc-mac-arm64-LATEST/crisprBwa/raw-results/kjohnson
Name
Last modified
Size
Description
Parent Directory
-
buildsrc-out.txt
20-Apr-2023 00:01
897
buildsrc-summary.dcf
20-Apr-2023 00:01
345
install-out.txt
20-Apr-2023 00:01
696
install-summary.dcf
20-Apr-2023 00:01
274