Index of /checkResults/3.16/bioc-mac-arm64-LATEST/cellTree/raw-results/kjohnson
Name
Last modified
Size
Description
Parent Directory
-
install-summary.dcf
20-Apr-2023 00:01
271
buildsrc-summary.dcf
20-Apr-2023 00:01
345
buildsrc-out.txt
20-Apr-2023 00:01
1.1K
install-out.txt
20-Apr-2023 00:01
1.4K