Name | Last modified | Size | Description | |
---|---|---|---|---|
Parent Directory | - | |||
buildbin-out.txt | 20-Apr-2023 00:01 | 1.3K | ||
buildbin-summary.dcf | 20-Apr-2023 00:01 | 578 | ||
buildsrc-out.txt | 20-Apr-2023 00:01 | 911 | ||
buildsrc-summary.dcf | 20-Apr-2023 00:01 | 452 | ||
install-out.txt | 20-Apr-2023 00:01 | 1.0K | ||
install-summary.dcf | 20-Apr-2023 00:01 | 285 | ||