Name | Last modified | Size | Description | |
---|---|---|---|---|
Parent Directory | - | |||
buildbin-out.txt | 20-Apr-2023 00:01 | 1.1K | ||
install-out.txt | 20-Apr-2023 00:01 | 1.0K | ||
buildsrc-out.txt | 20-Apr-2023 00:01 | 870 | ||
buildbin-summary.dcf | 20-Apr-2023 00:01 | 514 | ||
buildsrc-summary.dcf | 20-Apr-2023 00:01 | 420 | ||
install-summary.dcf | 20-Apr-2023 00:01 | 264 | ||