Index of /checkResults/3.16/bioc-mac-arm64-LATEST/TCGAbiolinksGUI/raw-results/kjohnson
Name
Last modified
Size
Description
Parent Directory
-
install-summary.dcf
20-Apr-2023 00:01
287
install-out.txt
20-Apr-2023 00:01
933
buildsrc-summary.dcf
20-Apr-2023 00:01
358
buildsrc-out.txt
20-Apr-2023 00:01
1.1K