Name | Last modified | Size | Description | |
---|---|---|---|---|
Parent Directory | - | |||
install-summary.dcf | 20-Apr-2023 00:01 | 266 | ||
buildsrc-summary.dcf | 20-Apr-2023 00:01 | 423 | ||
buildbin-summary.dcf | 20-Apr-2023 00:01 | 521 | ||
buildsrc-out.txt | 20-Apr-2023 00:01 | 851 | ||
install-out.txt | 20-Apr-2023 00:01 | 1.3K | ||
buildbin-out.txt | 20-Apr-2023 00:01 | 1.4K | ||