Index of /checkResults/3.16/bioc-mac-arm64-LATEST/MIGSA/raw-results/kjohnson
Name
Last modified
Size
Description
Parent Directory
-
buildsrc-out.txt
20-Apr-2023 00:01
2.5K
buildsrc-summary.dcf
20-Apr-2023 00:01
339
install-out.txt
20-Apr-2023 00:01
1.0K
install-summary.dcf
20-Apr-2023 00:01
265