Name | Last modified | Size | Description | |
---|---|---|---|---|
Parent Directory | - | |||
install-summary.dcf | 20-Apr-2023 00:01 | 266 | ||
install-out.txt | 20-Apr-2023 00:01 | 1.0K | ||
buildsrc-summary.dcf | 20-Apr-2023 00:01 | 341 | ||
buildsrc-out.txt | 20-Apr-2023 00:01 | 1.3K | ||
buildbin-summary.dcf | 06-Apr-2023 00:02 | 522 | ||
buildbin-out.txt | 06-Apr-2023 00:02 | 1.1K | ||