Name | Last modified | Size | Description | |
---|---|---|---|---|
Parent Directory | - | |||
buildbin-out.txt | 20-Apr-2023 00:01 | 13K | ||
buildbin-summary.dcf | 20-Apr-2023 00:01 | 593 | ||
buildsrc-out.txt | 20-Apr-2023 00:01 | 889 | ||
buildsrc-summary.dcf | 20-Apr-2023 00:01 | 458 | ||
install-out.txt | 20-Apr-2023 00:01 | 12K | ||
install-summary.dcf | 20-Apr-2023 00:01 | 290 | ||