Name | Last modified | Size | Description | |
---|---|---|---|---|
Parent Directory | - | |||
buildbin-out.txt | 20-Apr-2023 00:01 | 133K | ||
buildbin-summary.dcf | 20-Apr-2023 00:01 | 555 | ||
buildsrc-out.txt | 20-Apr-2023 00:01 | 925 | ||
buildsrc-summary.dcf | 20-Apr-2023 00:01 | 440 | ||
install-out.txt | 20-Apr-2023 00:01 | 132K | ||
install-summary.dcf | 20-Apr-2023 00:01 | 278 | ||