Name | Last modified | Size | Description | |
---|---|---|---|---|
Parent Directory | - | |||
install-summary.dcf | 20-Apr-2023 00:01 | 271 | ||
buildsrc-summary.dcf | 20-Apr-2023 00:01 | 428 | ||
buildbin-summary.dcf | 20-Apr-2023 00:01 | 534 | ||
buildsrc-out.txt | 20-Apr-2023 00:01 | 965 | ||
install-out.txt | 20-Apr-2023 00:01 | 46K | ||
buildbin-out.txt | 20-Apr-2023 00:01 | 47K | ||