Index of /checkResults/3.16/bioc-mac-arm64-LATEST/DEGraph/raw-results
Name
Last modified
Size
Description
Parent Directory
-