Name | Last modified | Size | Description | |
---|---|---|---|---|
Parent Directory | - | |||
buildbin-out.txt | 20-Apr-2023 00:01 | 6.2K | ||
buildbin-summary.dcf | 20-Apr-2023 00:01 | 534 | ||
buildsrc-out.txt | 20-Apr-2023 00:01 | 889 | ||
buildsrc-summary.dcf | 20-Apr-2023 00:01 | 429 | ||
install-out.txt | 20-Apr-2023 00:01 | 5.3K | ||
install-summary.dcf | 20-Apr-2023 00:01 | 270 | ||