Name | Last modified | Size | Description | |
---|---|---|---|---|
Parent Directory | - | |||
buildbin-out.txt | 20-Apr-2023 00:01 | 1.3K | ||
buildbin-summary.dcf | 20-Apr-2023 00:01 | 602 | ||
buildsrc-out.txt | 20-Apr-2023 00:01 | 864 | ||
buildsrc-summary.dcf | 20-Apr-2023 00:01 | 463 | ||
install-out.txt | 20-Apr-2023 00:01 | 1.1K | ||
install-summary.dcf | 20-Apr-2023 00:01 | 292 | ||