Index of /checkResults/3.16/bioc-mac-arm64-LATEST/ChemmineOB/raw-results/kjohnson
Name
Last modified
Size
Description
Parent Directory
-
install-summary.dcf
20-Apr-2023 00:01
278
install-out.txt
20-Apr-2023 00:01
2.2K
buildsrc-summary.dcf
20-Apr-2023 00:01
348
buildsrc-out.txt
20-Apr-2023 00:01
2.5K