Index of /checkResults/3.16/bioc-mac-arm64-LATEST/CHRONOS/raw-results/kjohnson
Name
Last modified
Size
Description
Parent Directory
-
buildsrc-out.txt
20-Apr-2023 00:01
936
buildsrc-summary.dcf
20-Apr-2023 00:01
344
install-out.txt
20-Apr-2023 00:01
1.0K
install-summary.dcf
20-Apr-2023 00:01
269