Name | Last modified | Size | Description | |
---|---|---|---|---|
Parent Directory | - | |||
install-summary.dcf | 20-Apr-2023 00:01 | 282 | ||
buildbin-out.txt | 20-Apr-2023 00:01 | 44K | ||
buildbin-summary.dcf | 20-Apr-2023 00:01 | 567 | ||
buildsrc-out.txt | 20-Apr-2023 00:01 | 870 | ||
buildsrc-summary.dcf | 20-Apr-2023 00:01 | 446 | ||
install-out.txt | 20-Apr-2023 00:01 | 43K | ||