Name | Last modified | Size | Description | |
---|---|---|---|---|
Parent Directory | - | |||
buildbin-out.txt | 20-Apr-2023 00:01 | 37K | ||
buildbin-summary.dcf | 20-Apr-2023 00:01 | 561 | ||
buildsrc-out.txt | 20-Apr-2023 00:01 | 866 | ||
buildsrc-summary.dcf | 20-Apr-2023 00:01 | 443 | ||
install-out.txt | 20-Apr-2023 00:01 | 35K | ||
install-summary.dcf | 20-Apr-2023 00:01 | 279 | ||