Name | Last modified | Size | Description | |
---|---|---|---|---|
Parent Directory | - | |||
buildbin-out.txt | 23-Jan-2023 01:02 | 3.8K | ||
buildbin-summary.dcf | 23-Jan-2023 01:02 | 549 | ||
buildsrc-out.txt | 20-Apr-2023 00:01 | 928 | ||
buildsrc-summary.dcf | 20-Apr-2023 00:01 | 348 | ||
install-out.txt | 20-Apr-2023 00:01 | 709 | ||
install-summary.dcf | 20-Apr-2023 00:01 | 277 | ||