Index of /checkResults/3.16/bioc-longtests-LATEST/midasHLA/raw-results/nebbiolo2
Name
Last modified
Size
Description
Parent Directory
-
checksrc-summary.dcf
16-Apr-2023 10:30
434
buildsrc-summary.dcf
16-Apr-2023 10:30
450
buildsrc-out.txt
16-Apr-2023 10:30
770
checksrc-out.txt
16-Apr-2023 10:30
4.0K