Index of /checkResults/3.16/bioc-longtests-LATEST/midasHLA/raw-results/lconway
Name
Last modified
Size
Description
Parent Directory
-
buildsrc-out.txt
16-Apr-2023 10:30
780
buildsrc-summary.dcf
16-Apr-2023 10:30
461
checksrc-out.txt
16-Apr-2023 10:30
4.0K
checksrc-summary.dcf
16-Apr-2023 10:30
444