Index of /checkResults/3.16/bioc-longtests-LATEST/extraChIPs/raw-results/nebbiolo2
Name
Last modified
Size
Description
Parent Directory
-
buildsrc-out.txt
16-Apr-2023 10:30
841
buildsrc-summary.dcf
16-Apr-2023 10:30
456
checksrc-out.txt
16-Apr-2023 10:30
3.3K
checksrc-summary.dcf
16-Apr-2023 10:30
436