Index of /checkResults/3.16/bioc-longtests-LATEST/extraChIPs/raw-results/lconway
Name
Last modified
Size
Description
Parent Directory
-
checksrc-out.txt
16-Apr-2023 10:30
3.3K
buildsrc-out.txt
16-Apr-2023 10:30
851
buildsrc-summary.dcf
16-Apr-2023 10:30
467
checksrc-summary.dcf
16-Apr-2023 10:30
446