Index of /checkResults/3.16/bioc-longtests-LATEST/cBioPortalData/raw-results/palomino4
Name
Last modified
Size
Description
Parent Directory
-
checksrc-out.txt
16-Apr-2023 10:30
3.7K
buildsrc-out.txt
16-Apr-2023 10:30
833
buildsrc-summary.dcf
16-Apr-2023 10:30
513
checksrc-summary.dcf
16-Apr-2023 10:30
481