Index of /checkResults/3.16/bioc-longtests-LATEST/cBioPortalData/raw-results/nebbiolo2
Name
Last modified
Size
Description
Parent Directory
-
checksrc-summary.dcf
16-Apr-2023 10:30
455
buildsrc-summary.dcf
16-Apr-2023 10:30
469
buildsrc-out.txt
16-Apr-2023 10:30
795
checksrc-out.txt
16-Apr-2023 10:30
3.8K