Index of /checkResults/3.16/bioc-longtests-LATEST/cBioPortalData/raw-results/lconway
Name
Last modified
Size
Description
Parent Directory
-
checksrc-summary.dcf
16-Apr-2023 10:30
465
buildsrc-summary.dcf
16-Apr-2023 10:30
480
buildsrc-out.txt
16-Apr-2023 10:30
805
checksrc-out.txt
16-Apr-2023 10:30
3.8K