Index of /checkResults/3.16/bioc-longtests-LATEST/biodbUniprot/raw-results/nebbiolo2
Name
Last modified
Size
Description
Parent Directory
-
buildsrc-out.txt
16-Apr-2023 10:30
786
buildsrc-summary.dcf
16-Apr-2023 10:30
462
checksrc-out.txt
16-Apr-2023 10:30
2.9K
checksrc-summary.dcf
16-Apr-2023 10:30
442