Index of /checkResults/3.16/bioc-longtests-LATEST/biodbUniprot/raw-results/lconway
Name
Last modified
Size
Description
Parent Directory
-
buildsrc-out.txt
16-Apr-2023 10:30
796
buildsrc-summary.dcf
16-Apr-2023 10:30
473
checksrc-out.txt
16-Apr-2023 10:30
2.8K
checksrc-summary.dcf
16-Apr-2023 10:30
452