Index of /checkResults/3.16/bioc-longtests-LATEST/biodbNci/raw-results/palomino4
Name
Last modified
Size
Description
Parent Directory
-
checksrc-out.txt
16-Apr-2023 10:30
2.9K
checksrc-summary.dcf
16-Apr-2023 10:30
457
buildsrc-summary.dcf
16-Apr-2023 10:30
487
buildsrc-out.txt
16-Apr-2023 10:30
818