Index of /checkResults/3.16/bioc-longtests-LATEST/biodbNcbi/raw-results/lconway
Name
Last modified
Size
Description
Parent Directory
-
buildsrc-out.txt
16-Apr-2023 10:30
784
buildsrc-summary.dcf
16-Apr-2023 10:30
464
checksrc-out.txt
16-Apr-2023 10:30
3.1K
checksrc-summary.dcf
16-Apr-2023 10:30
449