Index of /checkResults/3.16/bioc-longtests-LATEST/biodbMirbase/raw-results/lconway
Name
Last modified
Size
Description
Parent Directory
-
checksrc-summary.dcf
16-Apr-2023 10:30
451
checksrc-out.txt
16-Apr-2023 10:30
2.8K
buildsrc-summary.dcf
16-Apr-2023 10:30
473
buildsrc-out.txt
16-Apr-2023 10:30
796